BEGIN:VCALENDAR
VERSION:2.0
PRODID:-//NADI Pekan Baru Pitas - ECPv6.15.13.1//NONSGML v1.0//EN
CALSCALE:GREGORIAN
METHOD:PUBLISH
X-WR-CALNAME:NADI Pekan Baru Pitas
X-ORIGINAL-URL:https://pekanbarupitas.nadi.my
X-WR-CALDESC:Events for NADI Pekan Baru Pitas
REFRESH-INTERVAL;VALUE=DURATION:PT1H
X-Robots-Tag:noindex
X-PUBLISHED-TTL:PT1H
BEGIN:VTIMEZONE
TZID:Asia/Kuala_Lumpur
BEGIN:STANDARD
TZOFFSETFROM:+0800
TZOFFSETTO:+0800
TZNAME:+08
DTSTART:20240101T000000
END:STANDARD
END:VTIMEZONE
BEGIN:VEVENT
DTSTART;TZID=Asia/Kuala_Lumpur:20250620T150000
DTEND;TZID=Asia/Kuala_Lumpur:20250620T160000
DTSTAMP:20260425T190531
CREATED:20250612T033646Z
LAST-MODIFIED:20250612T033646Z
UID:2522-1750431600-1750435200@pekanbarupitas.nadi.my
SUMMARY:CYBERSECURITY (DARI SERANGAN SIBER KE PEMULIHAN)
DESCRIPTION:Webinar ini mencerminkan skop webinar yang merangkumi pengurusan insiden siber\, teknik OSINT\, pencarian data sensitif\, serta aspek forensik digital seperti hashing dan analisis bukti. \nSyarat : WAJIB! berdaftar sebagai AHLI NADI.
URL:https://pekanbarupitas.nadi.my/event/cybersecurity-dari-serangan-siber-ke-pemulihan/
LOCATION:Sabah
END:VEVENT
END:VCALENDAR