BEGIN:VCALENDAR
VERSION:2.0
PRODID:-//NADI Pekan Baru Pitas - ECPv6.15.13.1//NONSGML v1.0//EN
CALSCALE:GREGORIAN
METHOD:PUBLISH
X-WR-CALNAME:NADI Pekan Baru Pitas
X-ORIGINAL-URL:https://pekanbarupitas.nadi.my
X-WR-CALDESC:Events for NADI Pekan Baru Pitas
REFRESH-INTERVAL;VALUE=DURATION:PT1H
X-Robots-Tag:noindex
X-PUBLISHED-TTL:PT1H
BEGIN:VTIMEZONE
TZID:Asia/Kuala_Lumpur
BEGIN:STANDARD
TZOFFSETFROM:+0800
TZOFFSETTO:+0800
TZNAME:+08
DTSTART:20240101T000000
END:STANDARD
END:VTIMEZONE
BEGIN:VEVENT
DTSTART;TZID=Asia/Kuala_Lumpur:20250802T143000
DTEND;TZID=Asia/Kuala_Lumpur:20250802T163000
DTSTAMP:20260421T101939
CREATED:20250730T084731Z
LAST-MODIFIED:20250730T084731Z
UID:2579-1754145000-1754152200@pekanbarupitas.nadi.my
SUMMARY:NADI X DILEA (WEBINAR BERKALA SEJARAH) TING. 4 & 5
DESCRIPTION:📢 Webinar Sejarah PERCUMA Khas untuk Pelajar Tingkatan 4 & 5! 📢 \nNak skor A dalam subjek Sejarah? Sertai Webinar Berkala Sejarah Edisi ke-2 bersama kami! \n🗓️Tarikh: 2 Ogos 2025 (Sabtu)\n🕞Masa: 2.30 PM – 4.30 PM \n📍Tempat: NADI berhampiran anda \n📚 Peluang terbaik untuk kuasai Teknik Skor A Sejarah dan persediaan menghadapi SPM! Jangan lepaskan! \n📞 Daftar sekarang dengan mengunjungi NADI kawasan anda! \n#NADI#DILEA#WebinarSejarah#SPM2025#SejarahWebinar#BelajarOnline
URL:https://pekanbarupitas.nadi.my/event/nadi-x-dilea-webinar-berkala-sejarah-ting-4-5/
LOCATION:Sabah
END:VEVENT
END:VCALENDAR