BEGIN:VCALENDAR
VERSION:2.0
PRODID:-//NADI Pekan Baru Pitas - ECPv6.15.13.1//NONSGML v1.0//EN
CALSCALE:GREGORIAN
METHOD:PUBLISH
X-WR-CALNAME:NADI Pekan Baru Pitas
X-ORIGINAL-URL:https://pekanbarupitas.nadi.my
X-WR-CALDESC:Events for NADI Pekan Baru Pitas
REFRESH-INTERVAL;VALUE=DURATION:PT1H
X-Robots-Tag:noindex
X-PUBLISHED-TTL:PT1H
BEGIN:VTIMEZONE
TZID:Asia/Kuala_Lumpur
BEGIN:STANDARD
TZOFFSETFROM:+0800
TZOFFSETTO:+0800
TZNAME:+08
DTSTART:20240101T000000
END:STANDARD
END:VTIMEZONE
BEGIN:VEVENT
DTSTART;TZID=Asia/Kuala_Lumpur:20250804T091500
DTEND;TZID=Asia/Kuala_Lumpur:20250804T101500
DTSTAMP:20260421T060630
CREATED:20250730T083804Z
LAST-MODIFIED:20250730T083804Z
UID:2570-1754298900-1754302500@pekanbarupitas.nadi.my
SUMMARY:NADI X DILEA (MATEMATIK TING. 1 & 2)
DESCRIPTION:Assalamualaikum dan salam sejahtera\, \nDengan ini dimaklumkan bahawa bermula Ogos 2025\, pihak kami akan memperkenalkan dua (2) inisiatif pembelajaran baharu melalui Platform DILEA Digital Learning\, iaitu Open Tuition dan Video Ulangkaji. Inisiatif ini dirangka sebagai penambahbaikan kepada program sedia ada bagi memberikan pengalaman pembelajaran yang lebih komprehensif dan berstruktur kepada para peserta. \nInisiatif 1: Open Tuition\nSebagai penambahbaikan daripada kelas yang pernah dijalankan\, program ini terbuka kepada pelajar Tingkatan 1 hingga Tingkatan 6 dan merangkumi subjek-subjek teras seperti berikut:\n– Bahasa Melayu\n– Bahasa Inggeris\n– Matematik\n– Sejarah\n– Sains\n– Pengajian Am (khusus untuk Tingkatan 6) \nInisiatif 2: Video Ulangkaji\nInisiatif ini menyediakan rakaman penuh sesi Guidance Tuition\, Open Tuition\, dan Webinar Pembelajaran. Ia membolehkan pelajar membuat ulangkaji pada bila-bila masa\, memastikan tiada yang ketinggalan dan pemahaman dapat diperkukuhkan. Untuk maklumat lanjut berkenaan Video Ulangkaji\, sila rujuk emel sebelum ini.
URL:https://pekanbarupitas.nadi.my/event/nadi-x-dilea-matematik-ting-1-2/
LOCATION:NADI PEKAN BARU PITAS\, Jalan urusetia\, PITAS\, Sabah\, Malaysia
END:VEVENT
END:VCALENDAR