BEGIN:VCALENDAR
VERSION:2.0
PRODID:-//NADI Pekan Baru Pitas - ECPv6.15.13.1//NONSGML v1.0//EN
CALSCALE:GREGORIAN
METHOD:PUBLISH
X-ORIGINAL-URL:https://pekanbarupitas.nadi.my
X-WR-CALDESC:Events for NADI Pekan Baru Pitas
REFRESH-INTERVAL;VALUE=DURATION:PT1H
X-Robots-Tag:noindex
X-PUBLISHED-TTL:PT1H
BEGIN:VTIMEZONE
TZID:Asia/Kuala_Lumpur
BEGIN:STANDARD
TZOFFSETFROM:+0800
TZOFFSETTO:+0800
TZNAME:+08
DTSTART:20240101T000000
END:STANDARD
END:VTIMEZONE
BEGIN:VEVENT
DTSTART;TZID=Asia/Kuala_Lumpur:20250807T091500
DTEND;TZID=Asia/Kuala_Lumpur:20250807T101500
DTSTAMP:20260421T111327
CREATED:20250730T084942Z
LAST-MODIFIED:20250730T084942Z
UID:2582-1754558100-1754561700@pekanbarupitas.nadi.my
SUMMARY:NADI X DILEA (BAHASA MELAYU TING. 1 & 2)
DESCRIPTION:🔈PERHATIAN: OPEN TUITION OGOS 2025 \nAssalamualaikum dan salam sejahtera\, \nDengan ini dimaklumkan bahawa bermula Ogos 2025\, pihak kami akan memperkenalkan dua (2) inisiatif pembelajaran baharu melalui Platform DILEA Digital Learning\, iaitu Open Tuition dan Video Ulangkaji. Inisiatif ini dirangka sebagai penambahbaikan kepada program sedia ada bagi memberikan pengalaman pembelajaran yang lebih komprehensif dan berstruktur kepada para peserta. \nInisiatif 1: Open Tuition\nSebagai penambahbaikan daripada kelas yang pernah dijalankan\, program ini terbuka kepada pelajar Tingkatan 1 hingga Tingkatan 6 dan merangkumi subjek-subjek teras seperti berikut:\n– Bahasa Melayu\n– Bahasa Inggeris\n– Matematik\n– Sejarah\n– Sains\n– Pengajian Am (khusus untuk Tingkatan 6) \nInisiatif 2: Video Ulangkaji\nInisiatif ini menyediakan rakaman penuh sesi Guidance Tuition\, Open Tuition\, dan Webinar Pembelajaran. Ia membolehkan pelajar membuat ulangkaji pada bila-bila masa\, memastikan tiada yang ketinggalan dan pemahaman dapat diperkukuhkan. Untuk maklumat lanjut berkenaan Video Ulangkaji\, sila rujuk emel sebelum ini.
URL:https://pekanbarupitas.nadi.my/event/nadi-x-dilea-bahasa-melayu-ting-1-2/
LOCATION:NADI PEKAN BARU PITAS\, Jalan urusetia\, PITAS\, Sabah\, Malaysia
END:VEVENT
END:VCALENDAR