BEGIN:VCALENDAR
VERSION:2.0
PRODID:-//NADI Pekan Baru Pitas - ECPv6.15.13.1//NONSGML v1.0//EN
CALSCALE:GREGORIAN
METHOD:PUBLISH
X-WR-CALNAME:NADI Pekan Baru Pitas
X-ORIGINAL-URL:https://pekanbarupitas.nadi.my
X-WR-CALDESC:Events for NADI Pekan Baru Pitas
REFRESH-INTERVAL;VALUE=DURATION:PT1H
X-Robots-Tag:noindex
X-PUBLISHED-TTL:PT1H
BEGIN:VTIMEZONE
TZID:Asia/Kuala_Lumpur
BEGIN:STANDARD
TZOFFSETFROM:+0800
TZOFFSETTO:+0800
TZNAME:+08
DTSTART:20240101T000000
END:STANDARD
END:VTIMEZONE
BEGIN:VEVENT
DTSTART;TZID=Asia/Kuala_Lumpur:20251206T080000
DTEND;TZID=Asia/Kuala_Lumpur:20251206T170000
DTSTAMP:20260420T095804
CREATED:20251204T031941Z
LAST-MODIFIED:20251204T031941Z
UID:2679-1765008000-1765040400@pekanbarupitas.nadi.my
SUMMARY:WELLBEING - PHYSICAL POST NATAL (REACH : HEART SCREENING @ PUTRAJAYA)
DESCRIPTION:
URL:https://pekanbarupitas.nadi.my/event/wellbeing-physical-post-natal-reach-heart-screening-putrajaya/
LOCATION:Sabah
END:VEVENT
BEGIN:VEVENT
DTSTART;TZID=Asia/Kuala_Lumpur:20251206T143000
DTEND;TZID=Asia/Kuala_Lumpur:20251206T163000
DTSTAMP:20260420T095804
CREATED:20251204T031753Z
LAST-MODIFIED:20251204T031753Z
UID:2677-1765031400-1765038600@pekanbarupitas.nadi.my
SUMMARY:DILEA - WEBINAR MOTIVASI PELAJAR EDISI 4
DESCRIPTION:
URL:https://pekanbarupitas.nadi.my/event/dilea-webinar-motivasi-pelajar-edisi-4/
LOCATION:Sabah
END:VEVENT
END:VCALENDAR