BEGIN:VCALENDAR
VERSION:2.0
PRODID:-//NADI Pekan Baru Pitas - ECPv6.15.13.1//NONSGML v1.0//EN
CALSCALE:GREGORIAN
METHOD:PUBLISH
X-ORIGINAL-URL:https://pekanbarupitas.nadi.my
X-WR-CALDESC:Events for NADI Pekan Baru Pitas
REFRESH-INTERVAL;VALUE=DURATION:PT1H
X-Robots-Tag:noindex
X-PUBLISHED-TTL:PT1H
BEGIN:VTIMEZONE
TZID:Asia/Kuala_Lumpur
BEGIN:STANDARD
TZOFFSETFROM:+0800
TZOFFSETTO:+0800
TZNAME:+08
DTSTART:20250101T000000
END:STANDARD
END:VTIMEZONE
BEGIN:VEVENT
DTSTART;TZID=Asia/Kuala_Lumpur:20260119T080000
DTEND;TZID=Asia/Kuala_Lumpur:20260125T170000
DTSTAMP:20260421T040818
CREATED:20260120T034826Z
LAST-MODIFIED:20260120T034826Z
UID:2720-1768809600-1769360400@pekanbarupitas.nadi.my
SUMMARY:REVISION VIDEO SESI 25 - DILEA
DESCRIPTION:📢✨ PENDAFTARAN VIDEO ON DEMAND – REVISION VIDEO SESI 25 KINI DIBUKA! \n✅ Video on Demand – Revision Video khas untuk anda !\n📅 Tarikh : 19-25 Januari 2026\n⏰ Waktu: Fleksibel – ikut jadual anda sendiri! \n🎥 Akses rakaman kelas dan boleh ulang tayang sepuas hati! \nRakaman yang tersedia: \n* Rakaman Guidance Tuition\n* Rakaman Open Tuition\n* Rakaman Webinar Pendidikan \n📌 Jangan lepaskan peluang! \nDaftar sekarang & ulangkaji dengan lebih mudah
URL:https://pekanbarupitas.nadi.my/event/revision-video-sesi-25-dilea/
LOCATION:NADI PEKAN BARU PITAS\, Jalan urusetia\, PITAS\, Sabah\, Malaysia
END:VEVENT
BEGIN:VEVENT
DTSTART;TZID=Asia/Kuala_Lumpur:20260122T100000
DTEND;TZID=Asia/Kuala_Lumpur:20260122T110000
DTSTAMP:20260421T040818
CREATED:20260120T062824Z
LAST-MODIFIED:20260120T062824Z
UID:2729-1769076000-1769079600@pekanbarupitas.nadi.my
SUMMARY:(E-KELAS USAHAWAN) WEBINAR PEMASARAN DIGITAL
DESCRIPTION:Mahukan visual bisnes yang mampu buat pelanggan berhenti dan beri perhatian? \nPenjenamaan yang kukuh bermula dengan komunikasi visual yang berkesan.\nJom pelajari asas penting untuk cipta visual yang bukan sekadar cantik — tapi juga mampu menyampaikan mesej dan membina kepercayaan. \n📢 Sertai Webinar NADI Nurture eKelas Usahawan – Asas Komunikasi Visual \nApa yang anda bakal pelajari:\n🎨 Prinsip penting komunikasi visual\n📱 Teknik reka visual untuk media sosial\n💡 Cara guna visual bagi menarik & mengekalkan pelanggan \n📅 Khamis\, 22 Januari 2026\n🕑 10:00 pagi – 11.00 pagi\n💻 Zoom LIVE\n🔗 Daftar sekarang: bit.ly/eku220126am \n🎟️ Percuma – daftar segera sebelum tempat habis! \n#eKelasUsahawan #NADINurture #SatuCreative #KomunikasiVisual #WebinarUsahawan
URL:https://pekanbarupitas.nadi.my/event/e-kelas-usahawan-webinar-pemasaran-digital/
LOCATION:NADI PEKAN BARU PITAS\, Jalan urusetia\, PITAS\, Sabah\, Malaysia
END:VEVENT
BEGIN:VEVENT
DTSTART;TZID=Asia/Kuala_Lumpur:20260122T150000
DTEND;TZID=Asia/Kuala_Lumpur:20260122T170000
DTSTAMP:20260421T040818
CREATED:20260120T035859Z
LAST-MODIFIED:20260120T035859Z
UID:2726-1769094000-1769101200@pekanbarupitas.nadi.my
SUMMARY:CYBERSECURITY -  SIRI CYBER HYGIENE (ASAS KESELAMATAN SIBER)
DESCRIPTION:📱🔐 PROGRAM CYBER HYGIENE 🔐📱 \nPernah terfikir sejauh mana telefon bimbit anda benar-benar selamat?\nDengan hanya satu klik\, data peribadi boleh terdedah tanpa disedari. \n📢 Jom sertai Program Cyber Hygiene\nKhas untuk individu berumur 17 tahun ke atas dan yang paling penting adalah yang menggunakan telefon bimbit sendiri. \n📌 Antara pengisian program:\n✅ Cara mengenal pasti wifi yang tidak dilindungi\n✅ Kenal pasti scam\, phishing & pautan berbahaya\n✅ Amalan selamat menggunakan telefon & internet harian \n🗓 Tarikh: 22 Januari 2026\n⏰ Masa: 3:00 – 4:30 Petang \n💡 Telefon pintar adalah keperluan harian\,\n🔒 keselamatannya adalah tanggungjawab kita. \nJangan lepaskan peluang untuk menjadi pengguna digital yang lebih bijak & selamat.
URL:https://pekanbarupitas.nadi.my/event/cybersecurity-siri-cyber-hygiene-asas-keselamatan-siber/
LOCATION:NADI PEKAN BARU PITAS\, Jalan urusetia\, PITAS\, Sabah\, Malaysia
END:VEVENT
END:VCALENDAR