BEGIN:VCALENDAR
VERSION:2.0
PRODID:-//NADI Pekan Baru Pitas - ECPv6.15.13.1//NONSGML v1.0//EN
CALSCALE:GREGORIAN
METHOD:PUBLISH
X-ORIGINAL-URL:https://pekanbarupitas.nadi.my
X-WR-CALDESC:Events for NADI Pekan Baru Pitas
REFRESH-INTERVAL;VALUE=DURATION:PT1H
X-Robots-Tag:noindex
X-PUBLISHED-TTL:PT1H
BEGIN:VTIMEZONE
TZID:Asia/Kuala_Lumpur
BEGIN:STANDARD
TZOFFSETFROM:+0800
TZOFFSETTO:+0800
TZNAME:+08
DTSTART:20240101T000000
END:STANDARD
END:VTIMEZONE
BEGIN:VEVENT
DTSTART;TZID=Asia/Kuala_Lumpur:20250502T100000
DTEND;TZID=Asia/Kuala_Lumpur:20250502T110000
DTSTAMP:20260425T212030
CREATED:20250527T034037Z
LAST-MODIFIED:20250527T034037Z
UID:2501-1746180000-1746183600@pekanbarupitas.nadi.my
SUMMARY:NADI X KESEJAHTERAAN KENDIRI (MENTAL HEALTH IS REAL !)
DESCRIPTION:
URL:https://pekanbarupitas.nadi.my/event/nadi-x-kesejahteraan-kendiri-mental-health-is-real/
LOCATION:Sabah
END:VEVENT
END:VCALENDAR