BEGIN:VCALENDAR
VERSION:2.0
PRODID:-//NADI Pekan Baru Pitas - ECPv6.15.13.1//NONSGML v1.0//EN
CALSCALE:GREGORIAN
METHOD:PUBLISH
X-WR-CALNAME:NADI Pekan Baru Pitas
X-ORIGINAL-URL:https://pekanbarupitas.nadi.my
X-WR-CALDESC:Events for NADI Pekan Baru Pitas
REFRESH-INTERVAL;VALUE=DURATION:PT1H
X-Robots-Tag:noindex
X-PUBLISHED-TTL:PT1H
BEGIN:VTIMEZONE
TZID:Asia/Kuala_Lumpur
BEGIN:STANDARD
TZOFFSETFROM:+0800
TZOFFSETTO:+0800
TZNAME:+08
DTSTART:20240101T000000
END:STANDARD
END:VTIMEZONE
BEGIN:VEVENT
DTSTART;TZID=Asia/Kuala_Lumpur:20250613T150000
DTEND;TZID=Asia/Kuala_Lumpur:20250613T170000
DTSTAMP:20260424T193903
CREATED:20250612T030800Z
LAST-MODIFIED:20250612T033327Z
UID:2514-1749826800-1749834000@pekanbarupitas.nadi.my
SUMMARY:CYBERSECURITY (WEBINAR LINDUNGI IDENTITI DIGITAL ANDA)
DESCRIPTION:Webinar ini mencerminkan keseluruhan kandungan webinar yang merangkumi kebocoran data\, keselamatan dalam talian\, dark web\, undang-undang siber\, dan teknik LTLR untuk mengurangkan risiko menjadi sasaran serangan siber. \n  \nSyarat : WAJIB! berdaftar sebagai ahli NADI
URL:https://pekanbarupitas.nadi.my/event/safe-shield-webinar-perisian-laman-web-merbahaya/
LOCATION:NADI PEKAN BARU PITAS\, Jalan urusetia\, PITAS\, Sabah\, Malaysia
END:VEVENT
BEGIN:VEVENT
DTSTART;TZID=Asia/Kuala_Lumpur:20250614T120000
DTEND;TZID=Asia/Kuala_Lumpur:20250614T140000
DTSTAMP:20260424T193903
CREATED:20250612T033233Z
LAST-MODIFIED:20250612T033233Z
UID:2519-1749902400-1749909600@pekanbarupitas.nadi.my
SUMMARY:NADI X MAHIR (RASA WARISAN NYONYA ASLI BERSAMA CHEF FLORENCE TAN)
DESCRIPTION:🎉 MAHIR SHORT LEARNING SERIES KEMBALI LAGI! 🎉\nDiatas permintaan ramai\, kami kembalikan lagi Chef kesayangan anda – Chef Florence Tan!!🍽️✨ \nSesuai untuk peminat masakan tradisional\, suri rumah\, usahawan makanan atau sesiapa sahaja yang ingin belajar resipi turun-temurun yang masih relevan dan bernilai tinggi! \n📌 Maklumat Kelas:\n📅 Tarikh: Sabtu\, 14 Jun 2025\n⏰ Masa: 12.00 tengah hari – 2.00 petang\n📍 Lokasi: Lintas langsung dari Waterfront Lumut\, Perak\n📺 Platform: Siaran langsung di YouTube Studio NADI Mahir\n🔗 Link akan diberi kemudian oleh petugas NADI \n✨ Dalam kelas ini anda akan pelajari:\n✅ Teknik asas dan tradisional masakan Nyonya\n✅ Tips penyediaan bahan agar rasa autentik terpelihara\n✅ Idea sajian yang sesuai untuk keluarga atau jualan premium
URL:https://pekanbarupitas.nadi.my/event/nadi-x-mahir-rasa-warisan-nyonya-asli-bersama-chef-florence-tan/
LOCATION:Sabah
END:VEVENT
BEGIN:VEVENT
DTSTART;TZID=Asia/Kuala_Lumpur:20250620T150000
DTEND;TZID=Asia/Kuala_Lumpur:20250620T160000
DTSTAMP:20260424T193903
CREATED:20250612T033646Z
LAST-MODIFIED:20250612T033646Z
UID:2522-1750431600-1750435200@pekanbarupitas.nadi.my
SUMMARY:CYBERSECURITY (DARI SERANGAN SIBER KE PEMULIHAN)
DESCRIPTION:Webinar ini mencerminkan skop webinar yang merangkumi pengurusan insiden siber\, teknik OSINT\, pencarian data sensitif\, serta aspek forensik digital seperti hashing dan analisis bukti. \nSyarat : WAJIB! berdaftar sebagai AHLI NADI.
URL:https://pekanbarupitas.nadi.my/event/cybersecurity-dari-serangan-siber-ke-pemulihan/
LOCATION:Sabah
END:VEVENT
BEGIN:VEVENT
DTSTART;TZID=Asia/Kuala_Lumpur:20250622T100000
DTEND;TZID=Asia/Kuala_Lumpur:20250622T120000
DTSTAMP:20260424T193903
CREATED:20250614T090150Z
LAST-MODIFIED:20250614T090150Z
UID:2525-1750586400-1750593600@pekanbarupitas.nadi.my
SUMMARY:NADI X TINY TECHIES
DESCRIPTION:
URL:https://pekanbarupitas.nadi.my/event/nadi-x-tiny-techies/
LOCATION:Sabah
END:VEVENT
BEGIN:VEVENT
DTSTART;TZID=Asia/Kuala_Lumpur:20250624T103000
DTEND;TZID=Asia/Kuala_Lumpur:20250624T110000
DTSTAMP:20260424T193903
CREATED:20250624T145139Z
LAST-MODIFIED:20250624T145218Z
UID:2532-1750761000-1750762800@pekanbarupitas.nadi.my
SUMMARY:NADI X WELLBEING
DESCRIPTION:WEBINAR ISTIMEWA STUDIO SIHAT X MRIC CLINIC & UNIC CARE\, MMU MELAKA. \nDengan kerjasama Majlis Perwakilan Pelajar & Unit CaRE\, MMU Melaka \nTajuk : INSOMNIA : Bila Otak Enggan Berehat……… \n 
URL:https://pekanbarupitas.nadi.my/event/nadi-x-wellbeing/
LOCATION:Sabah
END:VEVENT
BEGIN:VEVENT
DTSTART;TZID=Asia/Kuala_Lumpur:20250628T103000
DTEND;TZID=Asia/Kuala_Lumpur:20250628T110000
DTSTAMP:20260424T193903
CREATED:20250624T145451Z
LAST-MODIFIED:20250624T145716Z
UID:2534-1751106600-1751108400@pekanbarupitas.nadi.my
SUMMARY:NADI X DILEA (PODCAST SPECIAL EP2-"SPM BUKAN PENGHALANG TAPI PELUANG")
DESCRIPTION:
URL:https://pekanbarupitas.nadi.my/event/nadi-x-dilea-webinar-berkala-sejarah-edisi-2/
LOCATION:Sabah
END:VEVENT
BEGIN:VEVENT
DTSTART;TZID=Asia/Kuala_Lumpur:20250629T103000
DTEND;TZID=Asia/Kuala_Lumpur:20250629T110000
DTSTAMP:20260424T193903
CREATED:20250624T145845Z
LAST-MODIFIED:20250624T145845Z
UID:2540-1751193000-1751194800@pekanbarupitas.nadi.my
SUMMARY:NADI X DILEA (EP3 - "MACAM MANA NAK BUAT PELAJAR JATUH CINTA DENGAN MATEMATIK?")
DESCRIPTION:
URL:https://pekanbarupitas.nadi.my/event/nadi-x-dilea-ep3-macam-mana-nak-buat-pelajar-jatuh-cinta-dengan-matematik/
LOCATION:Sabah
END:VEVENT
BEGIN:VEVENT
DTSTART;TZID=Asia/Kuala_Lumpur:20250630T103000
DTEND;TZID=Asia/Kuala_Lumpur:20250630T110000
DTSTAMP:20260424T193903
CREATED:20250624T150021Z
LAST-MODIFIED:20250624T150021Z
UID:2542-1751279400-1751281200@pekanbarupitas.nadi.my
SUMMARY:NADI X DILEA (EP4 - "MATH & MASA DEPAN\, KAU TAKKAN TERLEPAS"
DESCRIPTION:
URL:https://pekanbarupitas.nadi.my/event/nadi-x-dilea-ep4-math-masa-depan-kau-takkan-terlepas/
LOCATION:Sabah
END:VEVENT
END:VCALENDAR